BEGIN:VCALENDAR
VERSION:2.0
PRODID:-//The Fuse Factory - ECPv5.5.0//NONSGML v1.0//EN
CALSCALE:GREGORIAN
METHOD:PUBLISH
X-WR-CALNAME:The Fuse Factory
X-ORIGINAL-URL:https://thefusefactory.org
X-WR-CALDESC:Events for The Fuse Factory
BEGIN:VTIMEZONE
TZID:America/New_York
BEGIN:DAYLIGHT
TZOFFSETFROM:-0500
TZOFFSETTO:-0400
TZNAME:EDT
DTSTART:20160313T070000
END:DAYLIGHT
BEGIN:STANDARD
TZOFFSETFROM:-0400
TZOFFSETTO:-0500
TZNAME:EST
DTSTART:20161106T060000
END:STANDARD
END:VTIMEZONE
BEGIN:VEVENT
DTSTART;TZID=America/New_York:20161120T140000
DTEND;TZID=America/New_York:20161120T160000
DTSTAMP:20260420T060358
CREATED:20200831T190901Z
LAST-MODIFIED:20200909T231927Z
UID:4298-1479650400-1479657600@thefusefactory.org
SUMMARY:Workshop: Intro to Designing Virtual Experiences
DESCRIPTION:About the workshop\nVirtual experiences allow us to be elsewhere while at the same time\, being present: you are here\, but you are also there. Within virtual experiences\, the relationship between time and space becomes altered\, sometimes to the point where the real and the virtual become indistinguishable. \nIn this workshop\, students will have the opportunity to experience virtual environments with the Oculus Rift. Then\, using a 360-degree video camera\, workshop participants will then collaborate with one another to film and edit a collective virtual experience of their own\, which they will be able to view with a Google Cardboard headset and their smartphones. \nThis workshop is supported by a grant from the Ohio Arts Council. Space for the workshop is being donated in-kind by the Ohio State University Department of Art. \nRequired\nThis is an introductory-level workshop. No previous experience using Oculus Rift\, Google cardboard\, or a 360 video camera is required\, but it is strongly suggested that all participants bring a smart phone. \nAbout the instructor\nChris Summers is a new media artist currently residing in Columbus\, Ohio. Having a BFA in Art & Technology from The Ohio State University\, Chris serves as the Media Manager and the Instructional Technologist in the Department of Dance and ASC Tech at OSU. When not creating artwork\, Chris enjoys coffee\, being outside with his newfie\, playing soccer\, and coming up with reasons to have pizza for dinner as often as possible. \nWorkshop location\nThe workshop will take place in 180A Hopkins Hall\, which is located on the South Oval mall on the Ohio State University campus.
URL:https://thefusefactory.org/event/workshop-intro-to-designing-virtual-experiences/
LOCATION:The Ohio State University\, 156 Hopkins Hall\, Columbus\, OH\, 43201\, United States
CATEGORIES:Workshop
END:VEVENT
END:VCALENDAR