BEGIN:VCALENDAR
VERSION:2.0
PRODID:-//The Fuse Factory - ECPv5.5.0//NONSGML v1.0//EN
CALSCALE:GREGORIAN
METHOD:PUBLISH
X-WR-CALNAME:The Fuse Factory
X-ORIGINAL-URL:https://thefusefactory.org
X-WR-CALDESC:Events for The Fuse Factory
BEGIN:VTIMEZONE
TZID:America/New_York
BEGIN:DAYLIGHT
TZOFFSETFROM:-0500
TZOFFSETTO:-0400
TZNAME:EDT
DTSTART:20140309T070000
END:DAYLIGHT
BEGIN:STANDARD
TZOFFSETFROM:-0400
TZOFFSETTO:-0500
TZNAME:EST
DTSTART:20141102T060000
END:STANDARD
END:VTIMEZONE
BEGIN:VEVENT
DTSTART;TZID=America/New_York:20140524T230000
DTEND;TZID=America/New_York:20140524T230000
DTSTAMP:20260420T042516
CREATED:20200831T191003Z
LAST-MODIFIED:20200910T182727Z
UID:4338-1400972400-1400972400@thefusefactory.org
SUMMARY:Workshop: Building Homemade Musical Instruments
DESCRIPTION:Workshop instructor: Ben Miller (NYC) \nWorkshop fee: $35 ($42 if you would like to make a marimba\, $50 if you would like to make a wood plank electronic guitar) \nBenjamin Miller’s Workshop informs students on the basic principal of sound vibration by building a variety of homemade musical instruments. Using books by Bart Hopkins from www.windworld.com\, he helps attendees understand and build Rubber-band Guitars\, Straw Oboes\, Bobby Pin Marimbas\, PVC flutes\, Tin Can Drum Sets\, Rice Maracas\, various Percussion Mallets\, 6-string Wood Plank Guitars\, and more. Miller engages discussion on Composition\, Open-ended Improvisation and Intuitive Listening. Attendees\, Musicians and non-Musicians of All Ages\, have Fun creating new sounds and recording them for posterity. Miller also shares his active and diverse musical background over the past four decades.
URL:https://thefusefactory.org/event/workshop-building-homemade-musical-instruments/
LOCATION:It Looks Like It’s Open\, 13 E. Tulane Rd\, Columbus\, OH\, 43202\, United States
CATEGORIES:Workshop
END:VEVENT
END:VCALENDAR