BEGIN:VCALENDAR
VERSION:2.0
PRODID:-//The Fuse Factory - ECPv5.5.0//NONSGML v1.0//EN
CALSCALE:GREGORIAN
METHOD:PUBLISH
X-WR-CALNAME:The Fuse Factory
X-ORIGINAL-URL:https://thefusefactory.org
X-WR-CALDESC:Events for The Fuse Factory
BEGIN:VTIMEZONE
TZID:America/New_York
BEGIN:DAYLIGHT
TZOFFSETFROM:-0500
TZOFFSETTO:-0400
TZNAME:EDT
DTSTART:20210314T070000
END:DAYLIGHT
BEGIN:STANDARD
TZOFFSETFROM:-0400
TZOFFSETTO:-0500
TZNAME:EST
DTSTART:20211107T060000
END:STANDARD
END:VTIMEZONE
BEGIN:VEVENT
DTSTART;TZID=America/New_York:20211202T190000
DTEND;TZID=America/New_York:20211202T220000
DTSTAMP:20260420T060307
CREATED:20211112T143744Z
LAST-MODIFIED:20211112T144559Z
UID:6122-1638471600-1638482400@thefusefactory.org
SUMMARY:Virtual workshop: Modulation Synthesis with Pure Data (Pd)
DESCRIPTION:This Zoom workshop is an introduction to modulation synthesis using the graphical programming language Pure Data. We’ll cover how to implement amplitude\, ring and frequency modulation synthesis in this session while learning how to use Pd to build tools that can be used when composing and performing. \nAbout the instructor: Richard Graham\, Ph.D. (Signals Under Tests) is a musician from Northern Ireland. He has performed at festivals and conferences including Moogfest and the International Symposium on Electronic Art. He has composed music for British and US television and recorded live sessions for BBC radio and he has performed compositions from his album\, “Nascent\,” (2012) at the New York City Electroacoustic Music Festival (NYCEMF)\, the International Computer Music Conference (ICMC) and the national Society for Electro-Acoustic Music in the United States (SEAMUS) conference. Graham has also presented his music projects at a number of prestigious research institutions\, including Bauhaus-Universität in Weimar\, Elektronmusikstudion EMS in Stockholm\, Bell Labs in New Jersey\, STEIM in Amsterdam\, and Massachusetts Institute of Technology in Boston.
URL:https://thefusefactory.org/event/virtual-workshop-modulation-synthesis-with-pure-data-pd/
CATEGORIES:Virtual event,Workshop
END:VEVENT
END:VCALENDAR