BEGIN:VCALENDAR
VERSION:2.0
PRODID:-//The Fuse Factory - ECPv5.5.0//NONSGML v1.0//EN
CALSCALE:GREGORIAN
METHOD:PUBLISH
X-WR-CALNAME:The Fuse Factory
X-ORIGINAL-URL:https://thefusefactory.org
X-WR-CALDESC:Events for The Fuse Factory
BEGIN:VTIMEZONE
TZID:America/New_York
BEGIN:DAYLIGHT
TZOFFSETFROM:-0500
TZOFFSETTO:-0400
TZNAME:EDT
DTSTART:20190310T070000
END:DAYLIGHT
BEGIN:STANDARD
TZOFFSETFROM:-0400
TZOFFSETTO:-0500
TZNAME:EST
DTSTART:20191103T060000
END:STANDARD
END:VTIMEZONE
BEGIN:VEVENT
DTSTART;TZID=America/New_York:20190418T193000
DTEND;TZID=America/New_York:20190418T213000
DTSTAMP:20260420T074348
CREATED:20200831T190717Z
LAST-MODIFIED:20200907T210805Z
UID:4204-1555615800-1555623000@thefusefactory.org
SUMMARY:Sentient AV Audiovisual Meetup
DESCRIPTION:Sentient AV is an audiovisual meetup in Columbus\, OH. We focus on community-building and skill-sharing for people interested in audiovisual self-expression. If you are just making music\, or just visual art\, but want to get started on an audiovisual project or collaboration\, this group is for you. Examples of audiovisual projects include audiovisual performance\, VJing\, art installations\, music videos\, video art\, and sound sculpture. We encourage participation: bring your equipment and share what you’re working on\, or come ready to have conversations about your interests and ideas. Tables and chairs\, extension cords\, speakers\, and projectors will be available for use. We aim to be inclusive – all skill levels are welcome. Cost to attend is $5 or pay what you can.
URL:https://thefusefactory.org/event/sentient-av-audiovisual-meetup/
LOCATION:The Fuse Factory Electronic and Digital Arts Lab\, 13 E. Tulane Rd.\, Columbus\, OH\, 43202\, United States
CATEGORIES:Meetup
END:VEVENT
END:VCALENDAR