BEGIN:VCALENDAR
VERSION:2.0
PRODID:-//The Fuse Factory - ECPv5.5.0//NONSGML v1.0//EN
CALSCALE:GREGORIAN
METHOD:PUBLISH
X-WR-CALNAME:The Fuse Factory
X-ORIGINAL-URL:https://thefusefactory.org
X-WR-CALDESC:Events for The Fuse Factory
BEGIN:VTIMEZONE
TZID:America/New_York
BEGIN:DAYLIGHT
TZOFFSETFROM:-0500
TZOFFSETTO:-0400
TZNAME:EDT
DTSTART:20170312T070000
END:DAYLIGHT
BEGIN:STANDARD
TZOFFSETFROM:-0400
TZOFFSETTO:-0500
TZNAME:EST
DTSTART:20171105T060000
END:STANDARD
END:VTIMEZONE
BEGIN:VEVENT
DTSTART;TZID=America/New_York:20170211T120000
DTEND;TZID=America/New_York:20170211T150000
DTSTAMP:20260420T055008
CREATED:20200831T190909Z
LAST-MODIFIED:20200909T230625Z
UID:4313-1486814400-1486825200@thefusefactory.org
SUMMARY:Projection Mapping Workshop Series (Parts I\, II + III)
DESCRIPTION:About the workshop series\n[NOTE: Parts II and III will take place on Saturday\, February 18 and Saturday\, February 25]. The purpose of this workshop series is to provide attendees with the skill set needed to prepare any video or animation for projection onto a variety of real world surfaces. Projectors and space will be provided by the Columbus College of Art & Design (participants are welcome to bring their own projectors). The workshops will take place in the 3rd floor MFA seminar space in the Design Studios on Broad building on the CCAD campus. The space for the workshop is being donated in-kind by the Columbus College of Art & Design. The workshop series consists of three three-hour sessions: \nSession one (Saturday\, February 11): The first session will focus on learning how to use the projection mapping software VPT (VideoProjectionTool)\, a free multipurpose realtime projection software tool for Mac and Windows created by HC Gilje. Prior to this session\, participants will need to download VPT 7 onto their personal laptop by visiting this site: https://hcgilje.wordpress.com/vpt/. They will also need to download the latest free version of Quicktime. \nSession two (Saturday\, February 18): The second session will focus on creating interactive projections using Processing\, a flexible software sketchbook\, and the Arduino microcontroller. A limited number of Arduinos will be made available; participants may also bring their own Arduinos\, or purchase an Arduino at https://store-usa.arduino.cc/products/a000066. Prior to this session\, participants are strongly encouraged to download Processing onto their personal laptop by visiting the Processing site. \nSession three (Saturday\, February 25): In this session\, participants will apply what they have learned in the previous two sessions in a real-world setting. Weather permitting\, participants will take the projectors outside and engage in projection mapping on buildings\, trees\, fire hydrants\, etc. \nRequirements\nAll you need is a strong aptitude for experimentation and creativity. No prior experience with projection mapping\, videography\, electronics\, the Arduino\, VPT\, or Processing. All laptop platforms (PC\, Windows\, Mac or Linux) are acceptable. \nAbout the instructor\nJohn Cairns grew up in Willowick\, a small suburb on the east side of Cleveland\, Ohio. John’s family and home environment have always been an important part of the creative process because they gained an appreciation for art\, nature\, and creativity from their grandmother\, Eleanor. Memories of John’s father and mother working in Cleveland’s factories and hospitals awarded a passion for hard work and an understanding that collaboration with industry will lead to opportunities greater than one self. John went on to pursue an education in the Arts and earned an Associate’s degree in Graphic Communication Technologies from Columbus State Community College in 2006\, a Bachelor of Fine Arts from Ohio State University with a focus on Art and Technology in 2010\, and a Master of Fine Arts with a concentration on Electronic Art from the University of Cincinnati in 2013. In higher education John earned an appreciation for new media and was drawn to using contemporary technology as material for an artistic practice. Currently John is employed as the Graduate Admissions Counselor and Mentor for Graduate Studies at Columbus College of Art & Design’s Graduate programs and lives in Grove City\, OH. John continues to make art and enjoys educating upcoming artists about new media.
URL:https://thefusefactory.org/event/projection-mapping-workshop-series/
LOCATION:Columbus College of Art And Design\, Design Studios on Broad\, 390 E. Broad Street\, Columbus\, OH\, 43215\, United States
CATEGORIES:Workshop
END:VEVENT
END:VCALENDAR