BEGIN:VCALENDAR
VERSION:2.0
PRODID:-//The Fuse Factory - ECPv5.5.0//NONSGML v1.0//EN
CALSCALE:GREGORIAN
METHOD:PUBLISH
X-WR-CALNAME:The Fuse Factory
X-ORIGINAL-URL:https://thefusefactory.org
X-WR-CALDESC:Events for The Fuse Factory
BEGIN:VTIMEZONE
TZID:America/New_York
BEGIN:DAYLIGHT
TZOFFSETFROM:-0500
TZOFFSETTO:-0400
TZNAME:EDT
DTSTART:20190310T070000
END:DAYLIGHT
BEGIN:STANDARD
TZOFFSETFROM:-0400
TZOFFSETTO:-0500
TZNAME:EST
DTSTART:20191103T060000
END:STANDARD
END:VTIMEZONE
BEGIN:VEVENT
DTSTART;TZID=America/New_York:20190802T193000
DTEND;TZID=America/New_York:20190802T220000
DTSTAMP:20260420T060545
CREATED:20200831T190719Z
LAST-MODIFIED:20200908T033559Z
UID:4214-1564774200-1564783200@thefusefactory.org
SUMMARY:Performance: KBD (OH) + Adam McKinley (CMH) + MƏMZ (CMH)
DESCRIPTION:On the evening of Friday\, August 2nd we are proud to present experimental trio KBD (OH)\, experimental electronic musician/video artist Adam McKinley (CMH)\, and Turner Matthews and Jordan Reed’s experimental music/video art project MƏMZ (CMH). Doors 7:30\, BYOB\, all ages. $5-$10. \nAbout the artists:\nKBD is a trio of experimental musicians who have been playing together since 2006. Its members are Michael Kimaid -drums and electronics\, Gabriel Beam- guitar and electronics\, and Ryan Dohm- trumpet and electronics. In 2007\, KBD released their debut full length: [four plus one]\, on the Eh? Music Label. Although Ryan Dohm moved to Los Angeles a year later\, they maintain a musical relationship based on those first formative years together. Not long after Dohm’s departure\, Kimaid and Beam collaborated with Colin Helb\, the result of which was a full length digital release in 2008 and a number of east coast/midwest dates through 2010. Afterwards\, Kimaid and Beam carried on and continue to play as KBD(uo)\, releasing an EP called Candid on FTAM and follow up full length on Eh?\, Any Port In A Storm. In 2013\, KBD(uo)released a DVD entitled Drop The Remainder on the New Orleans based multimedia label The Language Foundry\, and a cassette release entitled Loss/Gain on the RCN label from Akron\, Ohio. In addition to self-released tour edition CDs\, 2015 saw the release of Michael Kimaid’s solo percussion full length on the Factotum Tapes label. In 2016\, KBD returned as a full trio for their ten year anniversary tour. Every year since\, KBD has embarked on summer tours\, bringing new configurations and new music with them along the way. This year\, KBD hit the road again\, continuing to explore new places and new sounds. We’re still playing. Thanks for listening. \nAdam McKinley is a Columbus based electronic musician and visual artist\, and one third of the ambient improv trio Tone Elevator. Subduction is an audio visual project that pairs dark dronescapes with hypnotic\, abstract\, analog style video synthesis.
URL:https://thefusefactory.org/event/performance-kbd-adam-mckinley-memz/
LOCATION:The Fuse Factory Electronic and Digital Arts Lab\, 13 E. Tulane Rd.\, Columbus\, OH\, 43202\, United States
CATEGORIES:Performance
END:VEVENT
END:VCALENDAR