BEGIN:VCALENDAR
VERSION:2.0
PRODID:-//The Fuse Factory - ECPv5.5.0//NONSGML v1.0//EN
CALSCALE:GREGORIAN
METHOD:PUBLISH
X-WR-CALNAME:The Fuse Factory
X-ORIGINAL-URL:https://thefusefactory.org
X-WR-CALDESC:Events for The Fuse Factory
BEGIN:VTIMEZONE
TZID:America/New_York
BEGIN:DAYLIGHT
TZOFFSETFROM:-0500
TZOFFSETTO:-0400
TZNAME:EDT
DTSTART:20200308T070000
END:DAYLIGHT
BEGIN:STANDARD
TZOFFSETFROM:-0400
TZOFFSETTO:-0500
TZNAME:EST
DTSTART:20201101T060000
END:STANDARD
END:VTIMEZONE
BEGIN:VEVENT
DTSTART;TZID=America/New_York:20201106T200000
DTEND;TZID=America/New_York:20201106T230000
DTSTAMP:20260420T074214
CREATED:20201107T022959Z
LAST-MODIFIED:20201208T023235Z
UID:4940-1604692800-1604703600@thefusefactory.org
SUMMARY:November 2020 Frequency Fridays live-stream edition: Sarah Bernstein (NYC) + Id M Theft Able (ME) + P O S T V I V O (PGH) + Fatal Gaze (CMH)
DESCRIPTION:On the evening of Friday\, November 6th\, we are delighted to present via our Twitch channel live-stream performances of composer/violinist Sarah Bernstein\, noise artist Id M Theft Able\, performance art trio P O S T V I V O\, and David Reed and Ty Owen’s dark ambient/noise/video project Fatal Gaze. The live-stream will begin promptly at 8:00pm. Donations of $5-$10 via paypal.me/thefusefactory are warmly accepted. \nAbout the artists: \nSarah Bernstein is a New York-based composer and violinist whose work incorporates vocals\, electronics\, improvisation and original text. She is known for her fiery multidisciplinary performances\, and has garnered international acclaim for her distinctive recordings. She leads bands\, performs solo\, and collaborates with artists in avant-jazz\, chamber music\, experimental pop and noise. Awarded “Rising Star Violinist” in the 2020 DownBeat Critics Poll\, and nominated annually since 2015\, she is a recognized innovator in forward-thinking jazz. In addition to live performance\, Bernstein’s music is featured on radio programs\, podcasts\, and film scores. She is originally from San Francisco\, CA. \nid m theft able performs within and without the realms of noise\, avant-improvisation\, sound poetry\, performance\, et c. et c. et c. using voice\, found objects\, electronics\, and whatever else is available…… He has given over a thousand performances across 4 continents\, in 40 countries in settings ranging from the scummiest of squats to the fanciest of festivals. \nP O S T V I V O is Samir Gangwani\, Adrienne Cassell\, and Austin Marcus. Samir Gangwani (b. 1995\, Clemmons\, NC) is a composer\, performer\, installation artist\, and software designer. Gangwani’s work has been featured at the Kelly Strayhorn Theater\, Queens Museum\, Panoply Performance Laboratory\, Pittsburgh Filmmakers & Pittsburgh Center for the Arts\, Future Tenant\, Bunker Projects\, and the Glitter Box Theater. They completed a Student-Defined Major in Experimental Composition and Performance at Carnegie Mellon University. Adrienne Cassell is working at the intersection of 3d digital art\, emerging tech\, sound\, and performance art. Adrienne makes work about radicalized autonomy and femininity in virtual and physical spaces through audiovisual narratives and performance of a preconceived future. Austin Marcus\, who performs solo under the moniker of Xylantha\, is a synesthetic tinkerer on the brink of meditative mayhem\, or apostasy\, or tranquility. \nFatal Gaze makes noisy dark ambient music. Fatal Gaze is Columbus\, Ohio based musicians Ty Owen (Hadak Ura\, Death Beef) and David Reed (Envenomist\, Luasa Raelon).
URL:https://thefusefactory.org/event/november-2020-frequency-fridays/
CATEGORIES:Frequency Fridays,Performance
END:VEVENT
END:VCALENDAR