BEGIN:VCALENDAR
VERSION:2.0
PRODID:-//The Fuse Factory - ECPv5.5.0//NONSGML v1.0//EN
CALSCALE:GREGORIAN
METHOD:PUBLISH
X-WR-CALNAME:The Fuse Factory
X-ORIGINAL-URL:https://thefusefactory.org
X-WR-CALDESC:Events for The Fuse Factory
BEGIN:VTIMEZONE
TZID:America/New_York
BEGIN:DAYLIGHT
TZOFFSETFROM:-0500
TZOFFSETTO:-0400
TZNAME:EDT
DTSTART:20260308T070000
END:DAYLIGHT
BEGIN:STANDARD
TZOFFSETFROM:-0400
TZOFFSETTO:-0500
TZNAME:EST
DTSTART:20261101T060000
END:STANDARD
END:VTIMEZONE
BEGIN:VEVENT
DTSTART;TZID=America/New_York:20260521T193000
DTEND;TZID=America/New_York:20260521T220000
DTSTAMP:20260420T071210
CREATED:20260419T114316Z
LAST-MODIFIED:20260419T114333Z
UID:8931-1779391800-1779400800@thefusefactory.org
SUMMARY:Fuse Fest 2026: Acousti-dapted
DESCRIPTION:On the evening of Thursday\, May 21st\, we are thrilled and delighted to present Acousti-dapted\, an evening featuring musicians performing exclusively on acoustic instruments that are being adapted\, shaped\, and manipulated with electronics. The show features percussionist Julie Licata on (processed) vibraphone; additional performers TBA. Doors 7:30pm\, show begins at 8:00pm sharp. $10 prepaid\, $15 at the door. \nAbout the artists:  \nJulie Licata is a percussionist/drummer\, noisemaker\, collaborator\, and educator. Her performances range from improvisational soundscapes and works with computer processing\, to solo marimba and percussion\, chamber ensembles\, orchestras\, theater pits\, Indonesian gamelan and West African drum ensembles. Julie recently accepted the position of Assistant Professor and Director of Percussion at Capital University in Columbus\, Ohio. As a performer\, Julie focuses on promoting emerging composers and seeking new modes of musical expression with particular emphasis on improvisation and the integration of live analog and digital electronics. She recently released an album\, resound/unsound\, with co-creators Andris Balins and Brett Masteller; the album features percussive improvisations with time lag accumulation\, feedback looping\, and modular synthesis. Within this musical realm\, Julie has performed at the Society for Electro-Acoustic Music in the US\, the International Computer Music Conference\, CHIMEFest in Chicago\, IL\, and numerous new music venues across the US.
URL:https://thefusefactory.org/event/fuse-fest-2026-acousti-dapted/
LOCATION:The Old First Presbyterian Church\, 1101 Bryden Road\, Columbus\, OH\, 43205\, United States
CATEGORIES:Fuse Fest 2026,Performance
END:VEVENT
END:VCALENDAR