BEGIN:VCALENDAR
VERSION:2.0
PRODID:-//The Fuse Factory - ECPv5.5.0//NONSGML v1.0//EN
CALSCALE:GREGORIAN
METHOD:PUBLISH
X-WR-CALNAME:The Fuse Factory
X-ORIGINAL-URL:https://thefusefactory.org
X-WR-CALDESC:Events for The Fuse Factory
BEGIN:VTIMEZONE
TZID:America/New_York
BEGIN:DAYLIGHT
TZOFFSETFROM:-0500
TZOFFSETTO:-0400
TZNAME:EDT
DTSTART:20160313T070000
END:DAYLIGHT
BEGIN:STANDARD
TZOFFSETFROM:-0400
TZOFFSETTO:-0500
TZNAME:EST
DTSTART:20161106T060000
END:STANDARD
END:VTIMEZONE
BEGIN:VEVENT
DTSTART;TZID=America/New_York:20160205T200000
DTEND;TZID=America/New_York:20160205T230000
DTSTAMP:20260420T060430
CREATED:20200831T190857Z
LAST-MODIFIED:20200909T234654Z
UID:4286-1454702400-1454713200@thefusefactory.org
SUMMARY:February 2016 Frequency Fridays: XAMBUCA (NC) + Tiger Village (CLE) + Jeff Chenault & David Reed (CMH) + Ryan Kuehn (CLE)
DESCRIPTION:Our February 2016 Frequency Fridays show features multimedia collective XAMBUCA (NC)\, experimental electronic musicians Jeff Chenault and David Reed (CMH)\, experimental solo project Tiger Village (CLE)\, and sound/video artist Ryan Kuehn (CLE). Date: Friday\, February 5 2016. Location: It Looks Like It’s Open (13 E. Tulane Av.\, 43202). Admission: $10\, $15 for 2. Doors open 8pm. BYOB\, all ages. Our Frequency Fridays 2015-2016 season is supported by a grant from the Greater Columbus Arts Council. \nAbout the performers:\nXAMBUCA is a fictional group with no face or leader. Most of its product thus far is vapor\, and will remain unavailable to the public. All accounts of its claimed existence is based on false sightings\, rumors and here say. XAMBUCA does not really exist in the material space time continuum. Instead\, XAMBUCA conceptually feeds on the subconscious figment of a host’s imagination; a host that has a tendency to encounter its name or symbols in passing by mere coincidence. XAMBUCA owns an aspect of yourself as you have decided to be exposed to it and there is no turning back now…. you MUST watch and listen. \nRyan Kuehn is a sound and video artist\, DJ\, collector and archivist from Cleveland. Notable involvements over the years include Thursday Club\, Dead Peasant Insurance\, Hot Air Balloon Ride and his Dr. Quinn\, Medicine Woman solo project. With thirty some solo releases under his belt\, the project is constantly evolving\, never staying in one spot for too long- although the heart of the project lies in the balance betweem the ultra-serious and the downright absurd\, sometimes at the same time. He has released some seventy-plus releases on his “Everyone Else Has A Record Label So Why Can’t I?” Imprint-with some familiar names in the catalog. Over the past dozen years or so\, he has amassed an ever growing collection of audio and video documenting all things weird to come into Cleveland\, with literally hundreds and hundreds of audio and video recordings on his MegaSuperNoise youtube channel and the Thursday Club website. You can catch his weekly radio show\, The Record Exchange\, on WCSB in Cleveland or on the web. His newest release is called Quinnertronics: The Force Awakens and is available for free at drquinnmedicinewoman.bandcamp.com with a limited 3 inch cd-r forthcoming. \nTiger Village is a project by Lakewood\, Ohio producer Tim Thornton. Using an immensely controllable form of MIDI sequencing and tape loops\, the music is built from improvisation. Synths and drum machines swirl around each other\, locking in and out of sync. Dynamics\, keys & tempos can quickly shift. The resulting music ranges from meditative drones to pulsating barrages of 1/128th notes\, often in the same piece.
URL:https://thefusefactory.org/event/february-2016-frequency-fridays/
LOCATION:It Looks Like It’s Open\, 13 E. Tulane Rd\, Columbus\, OH\, 43202\, United States
CATEGORIES:Frequency Fridays,Performance
END:VEVENT
END:VCALENDAR