BEGIN:VCALENDAR
VERSION:2.0
PRODID:-//The Fuse Factory - ECPv5.5.0//NONSGML v1.0//EN
CALSCALE:GREGORIAN
METHOD:PUBLISH
X-WR-CALNAME:The Fuse Factory
X-ORIGINAL-URL:https://thefusefactory.org
X-WR-CALDESC:Events for The Fuse Factory
BEGIN:VTIMEZONE
TZID:America/New_York
BEGIN:DAYLIGHT
TZOFFSETFROM:-0500
TZOFFSETTO:-0400
TZNAME:EDT
DTSTART:20210314T070000
END:DAYLIGHT
BEGIN:STANDARD
TZOFFSETFROM:-0400
TZOFFSETTO:-0500
TZNAME:EST
DTSTART:20211107T060000
END:STANDARD
END:VTIMEZONE
BEGIN:VEVENT
DTSTART;TZID=America/New_York:20210409T200000
DTEND;TZID=America/New_York:20210409T210000
DTSTAMP:20260420T074436
CREATED:20210309T221335Z
LAST-MODIFIED:20210330T133508Z
UID:5455-1617998400-1618002000@thefusefactory.org
SUMMARY:Factory Streams: Live Vids for Covid: CG Ryan
DESCRIPTION:CG RYAN is a multidisciplinary and award-winning new media artist. She works with digital media\, installation\, and performance\, creating lyrically surreal experiences that play with imagination and perceptions. In 2020\, her Cinematic VR poetry installation Intangible Windows was featured at the international Patchlab Digital Art Festival and shown at the Vidicon Conference. Ryan’s practice incorporates interdisciplinary collaborations with musicians and poets to create hybrid media experiences\, performing with Haas/Razzaq/Weldon experimental free jazz trio for a live video mixing performance at The Fuse Factory in 2019\, and with sonic artist Phil Maneri in 2018 at the Beeler Gallery. A Los Angeles native\, CG [Christine Guillot] holds degrees from UCLA and ArtCenter in Pasadena\, and an MFA from Columbus College of Art and Design. Ryan lives and works in Columbus\, Ohio\, consulting with business innovation design groups\, working with creative collectives\, and leading workshops in analog mixed media and Augmented Reality. \nFactory Streams: Live Vids for Covid is a live-stream concert series featuring experimental\, electronic\, free jazz\, noise\, and other genre-bending musicians based in Columbus\, OH and elsewhere. All of the performances in the series are streamed from our official Twitch account: twitch.tv/thefusefactory.
URL:https://thefusefactory.org/event/factory-streams-live-vids-for-covid-cg-ryan/
CATEGORIES:Live Stream
END:VEVENT
END:VCALENDAR